BEGIN:VCALENDAR
VERSION:2.0
PRODID:-//Library Market//iCal Export//EN
BEGIN:VEVENT
SUMMARY:Junk Journaling/Scrapbooking
UID:4945
DTSTAMP:20260421T003600Z
DTSTART:20260528T210000Z
DTEND:20260528T221500Z
LOCATION:Atkins Centennial Library, 216 NE 1st St, Atkins, AR 72823, Unite
 d States
ROOM: Junk Journaling/Scrapbooking
DESCRIPTION: Drop by and see what Junk Journaling is all about.  Junk Jo
 urnaling is a creative, eco-friendly art form using recycled materials lik
 e old paper, packaging, tickets, and fabric scraps to build unique, visual
 ly rich handmade books, offering stress relief and a mindful way to docume
 nt life through collage, writing, and mixed media, focusing on re-purposin
 g &quot;junk&quot; into meaningful art.  All materials and supplies are p
 rovided.  
URL:https://popecountyar.librarycalendar.com/event/junk-journalingscrapboo
 king-4945
END:VEVENT
END:VCALENDAR
