BEGIN:VCALENDAR
VERSION:2.0
PRODID:-//Library Market//iCal Export//EN
BEGIN:VEVENT
SUMMARY:Driver&#039;s License Prep Classes
UID:4942
DTSTAMP:20260421T154300Z
DTSTART:20260518T210000Z
DTEND:20260518T220000Z
LOCATION:Atkins Centennial Library, 216 NE 1st St, Atkins, AR 72823, Unite
 d States
ROOM: Driver&#039;s License Prep Classes
DESCRIPTION:Need help preparing for your upcoming Driver&#039;s License Te
 st?  We are now offering a Prep Class to prepare anyone who is preparing 
 to take their driver&#039;s license test. This is a free event and will be
  offered twice a month.   
URL:https://popecountyar.librarycalendar.com/event/drivers-license-prep-cl
 asses-4942
END:VEVENT
END:VCALENDAR
